

BEGIN:VCALENDAR
VERSION:2.0
PRODID:-//hacksw/handcal//NONSGML v1.0//EN
CALSCALE:GREGORIAN
BEGIN:VEVENT
DTEND:20161113T180000
UID:5c76922432f15
DTSTAMP:20190228T003532
LOCATION:Kiama Showground address suburb  NSW
DESCRIPTION:The Rotary Clubs of Gerringong and Kiama&nbsp\;will again be holding the annual&nbsp\;Kiama Car Spectacular and Swap Meet on Sunday 13th November 2016 at the Kiama Showground. Veteran\, vintage\, classic cars and motor bikes welcome for show n shine.
The clubs are pleased to announce that the primary beneficiary will be Australian Rotary Health\, Melanoma Research.
Trophies&nbsp\;and prizes\, variety of food and coffee stalls\, kids amusements. Plenty of entertainment and a great day out for the family. Entry charge $5 per person\, under 12 free. Vehicle judging at 12 noon - display cars free.&nbsp\;
For more info call Bob (02) 4234 1336 or Christine (02) 4234 3033.
URL;VALUE=URI:http://gerringongrotary.org.au/event/18943
SUMMARY:Kiama Car Spectacular & Swap Meet
DTSTART:20161113T073000
END:VEVENT
END:VCALENDAR

